BEGIN:VCALENDAR
VERSION:2.0
PRODID:-//ChamberMaster//Event Calendar 2.0//EN
METHOD:PUBLISH
X-PUBLISHED-TTL:P1H
REFRESH-INTERVAL:P1H
CALSCALE:GREGORIAN
BEGIN:VTIMEZONE
TZID:America/New_York
BEGIN:DAYLIGHT
RRULE:FREQ=YEARLY;BYMONTH=3;BYDAY=2SU
DTSTART:20070101T000000
TZOFFSETFROM:-0500
TZOFFSETTO:-0400
TZNAME:Eastern Daylight Time
END:DAYLIGHT
BEGIN:STANDARD
RRULE:FREQ=YEARLY;BYMONTH=11;BYDAY=1SU
DTSTART:20070101T000000
TZOFFSETFROM:-0400
TZOFFSETTO:-0500
TZNAME:Eastern Standard Time
END:STANDARD
END:VTIMEZONE
BEGIN:VEVENT
DTSTART;TZID=America/New_York:20260520T130000
DTEND;TZID=America/New_York:20260520T170000
X-MICROSOFT-CDO-ALLDAYEVENT:FALSE
SUMMARY:HSToday's Inaugural Terrorism Prevention Forum
DESCRIPTION:Hosted in partnership with American University\, HSToday will be bringing together leaders from government\, law enforcement\, academia\, and civil society to examine the evolving landscape of prevention and highlight innovative\, real-world approaches to stopping threats before they emerge. We will discuss the state of prevention efforts\, cutting-edge practices in the field\, and the growing role of technology and community-based strategies in building resilience and enhancing public safety.
X-ALT-DESC;FMTTYPE=text/html:<!DOCTYPE html><html><head><title></title></head><body aria-disabled="false"><p><span style="color: rgb(0\, 0\, 0)\;">Hosted in partnership with American University\, HSToday will be bringing together leaders from government\, law enforcement\, academia\, and civil society to examine the evolving landscape of prevention and highlight innovative\, real-world approaches to stopping threats before they emerge. We will discuss the state of prevention efforts\, cutting-edge practices in the field\, and the growing role of technology and community-based strategies in building resilience and enhancing public safety.</span></p></body></html>
LOCATION:Mary Graydon Center 305 & 306 4400 Massachusetts Ave NW Washington D.C. 20016
UID:e.3345.1448385
SEQUENCE:3
DTSTAMP:20260422T222814Z
URL:https://members.gtscoalition.com/events/Details/hstoday-s-inaugural-terrorism-prevention-forum-1715385?sourceTypeId=Hub
END:VEVENT
END:VCALENDAR
